Package: flowPlots Version: 1.55.0 Command: chmod a+r flowPlots -R && E:\biocbuild\bbs-3.21-bioc\R\bin\R.exe CMD build --keep-empty-dirs --no-resave-data flowPlots StartedAt: 2025-02-19 18:46:18 -0500 (Wed, 19 Feb 2025) EndedAt: 2025-02-19 18:46:52 -0500 (Wed, 19 Feb 2025) EllapsedTime: 34.0 seconds RetCode: 0 Status: OK PackageFile: flowPlots_1.55.0.tar.gz PackageFileSize: 455 <A href="http://en.wikipedia.org/wiki/KiB" target="_blank">KiB</A>