##############################################################################
##############################################################################
###
### Running command:
###
###   chmod a+r flowPlots -R && E:\biocbuild\bbs-3.21-bioc\R\bin\R.exe CMD build --keep-empty-dirs --no-resave-data flowPlots
###
##############################################################################
##############################################################################


* checking for file 'flowPlots/DESCRIPTION' ... OK
* preparing 'flowPlots':
* checking DESCRIPTION meta-information ... OK
* checking whether 'INDEX' is up-to-date ... NO
* use '--force' to remove the existing 'INDEX'
* installing the package to build vignettes
* creating vignettes ... OK
* checking for LF line-endings in source and make files and shell scripts
* checking for empty or unneeded directories
* building 'flowPlots_1.55.0.tar.gz'