Package: flowPlots Version: 1.55.0 Command: rm -rf flowPlots.buildbin-libdir && mkdir flowPlots.buildbin-libdir && E:\biocbuild\bbs-3.21-bioc\R\bin\R.exe CMD INSTALL --build --library=flowPlots.buildbin-libdir flowPlots_1.55.0.tar.gz StartedAt: 2025-02-20 07:48:39 -0500 (Thu, 20 Feb 2025) EndedAt: 2025-02-20 07:49:17 -0500 (Thu, 20 Feb 2025) EllapsedTime: 39.0 seconds RetCode: 0 Status: OK PackageFile: flowPlots_1.55.0.zip PackageFileSize: 668.6 <A href="http://en.wikipedia.org/wiki/KiB" target="_blank">KiB</A>