Package: flowMeans
Version: 1.67.0
Maintainer: Nima Aghaeepour
MaintainerEmail: naghaeep at gmail.com
git_url: https://git.bioconductor.org/packages/flowMeans
git_branch: devel
git_last_commit: e87c7ac
git_last_commit_date: 2024-10-29 09:33:56 -0500 (Tue, 29 Oct 2024)