Package: flowDensity
Version: 1.41.0
Command: /home/biocbuild/bbs-3.21-bioc/R/bin/R CMD INSTALL flowDensity
StartedAt: 2025-02-19 15:13:53 -0500 (Wed, 19 Feb 2025)
EndedAt: 2025-02-19 15:14:03 -0500 (Wed, 19 Feb 2025)
EllapsedTime: 9.8 seconds
RetCode: 0
Status: OK