Package: flowDensity Version: 1.41.0 Command: /home/biocbuild/bbs-3.21-bioc/R/bin/R CMD check --install=check:flowDensity.install-out.txt --library=/home/biocbuild/bbs-3.21-bioc/R/site-library --timings flowDensity_1.41.0.tar.gz StartedAt: 2025-02-19 22:17:56 -0500 (Wed, 19 Feb 2025) EndedAt: 2025-02-19 22:18:48 -0500 (Wed, 19 Feb 2025) EllapsedTime: 52.1 seconds RetCode: 0 Status: WARNINGS CheckDir: flowDensity.Rcheck Warnings: 3