Package: flowDensity Version: 1.41.0 Command: /Library/Frameworks/R.framework/Resources/bin/R CMD build --keep-empty-dirs --no-resave-data flowDensity StartedAt: 2025-02-19 16:21:50 -0500 (Wed, 19 Feb 2025) EndedAt: 2025-02-19 16:21:51 -0500 (Wed, 19 Feb 2025) EllapsedTime: 1.0 seconds RetCode: 0 Status: OK PackageFile: flowDensity_1.41.0.tar.gz PackageFileSize: 4.295 <A href="http://en.wikipedia.org/wiki/MiB" target="_blank">MiB</A>