Package: flowDensity Version: 1.41.0 Command: rm -rf flowDensity.buildbin-libdir && mkdir flowDensity.buildbin-libdir && /Users/biocbuild/BBS/utils/build-universal.sh flowDensity_1.41.0.tar.gz /Library/Frameworks/R.framework/Resources/bin/R flowDensity.buildbin-libdir StartedAt: 2025-02-19 22:22:17 -0500 (Wed, 19 Feb 2025) EndedAt: 2025-02-19 22:22:22 -0500 (Wed, 19 Feb 2025) EllapsedTime: 5.1 seconds RetCode: 0 Status: OK PackageFile: flowDensity_1.41.0.tgz PackageFileSize: 4.489 <A href="http://en.wikipedia.org/wiki/MiB" target="_blank">MiB</A>