##############################################################################
##############################################################################
###
### Running command:
###
###   rm -rf flowDensity.buildbin-libdir && mkdir flowDensity.buildbin-libdir && /Users/biocbuild/BBS/utils/build-universal.sh flowDensity_1.41.0.tar.gz /Library/Frameworks/R.framework/Resources/bin/R flowDensity.buildbin-libdir
###
##############################################################################
##############################################################################


>>>>>>> 
>>>>>>> INSTALLATION WITH 'R CMD INSTALL --preclean --no-multiarch --library=flowDensity.buildbin-libdir flowDensity_1.41.0.tar.gz'
>>>>>>> 

* installing *source* package ‘flowDensity’ ...
** this is package ‘flowDensity’ version ‘1.41.0’
** using staged installation
** R
** inst
** byte-compile and prepare package for lazy loading
** help
*** installing help indices
** building package indices
** installing vignettes
** testing if installed package can be loaded from temporary location
** testing if installed package can be loaded from final location
** testing if installed package keeps a record of temporary installation path
* DONE (flowDensity)