Package: flowCHIC
Version: 1.41.0
Command: /home/biocbuild/bbs-3.21-bioc/R/bin/R CMD INSTALL flowCHIC
StartedAt: 2025-02-19 15:13:37 -0500 (Wed, 19 Feb 2025)
EndedAt: 2025-02-19 15:13:49 -0500 (Wed, 19 Feb 2025)
EllapsedTime: 12.4 seconds
RetCode: 0
Status: OK