Package: flowCHIC
Version: 1.41.0
Command: /home/biocbuild/bbs-3.21-bioc/R/bin/R CMD check --install=check:flowCHIC.install-out.txt --library=/home/biocbuild/bbs-3.21-bioc/R/site-library --timings flowCHIC_1.41.0.tar.gz
StartedAt: 2025-02-19 22:16:48 -0500 (Wed, 19 Feb 2025)
EndedAt: 2025-02-19 22:18:36 -0500 (Wed, 19 Feb 2025)
EllapsedTime: 107.1 seconds
RetCode: 0
Status: OK
CheckDir: flowCHIC.Rcheck
Warnings: 0