Package: flowCHIC Version: 1.41.0 Command: /home/biocbuild/bbs-3.21-bioc/R/bin/R CMD build --keep-empty-dirs --no-resave-data flowCHIC StartedAt: 2025-02-19 17:15:51 -0500 (Wed, 19 Feb 2025) EndedAt: 2025-02-19 17:16:23 -0500 (Wed, 19 Feb 2025) EllapsedTime: 32.0 seconds RetCode: 0 Status: OK PackageFile: flowCHIC_1.41.0.tar.gz PackageFileSize: 3.24 <A href="http://en.wikipedia.org/wiki/MiB" target="_blank">MiB</A>