Package: flowCHIC
Version: 1.41.0
Command: /Library/Frameworks/R.framework/Resources/bin/R CMD INSTALL flowCHIC
StartedAt: 2025-02-19 15:15:12 -0500 (Wed, 19 Feb 2025)
EndedAt: 2025-02-19 15:15:18 -0500 (Wed, 19 Feb 2025)
EllapsedTime: 5.8 seconds
RetCode: 0
Status: OK