Package: flowCHIC
Version: 1.41.0
Command: /Library/Frameworks/R.framework/Resources/bin/R CMD check --install=check:flowCHIC.install-out.txt --library=/Library/Frameworks/R.framework/Resources/library --no-vignettes --timings flowCHIC_1.41.0.tar.gz
StartedAt: 2025-02-19 19:19:38 -0500 (Wed, 19 Feb 2025)
EndedAt: 2025-02-19 19:20:21 -0500 (Wed, 19 Feb 2025)
EllapsedTime: 42.5 seconds
RetCode: 0
Status: OK
CheckDir: flowCHIC.Rcheck
Warnings: 0