Package: escheR
Version: 1.7.0
Maintainer: Boyi Guo
MaintainerEmail: boyi.guo.work at gmail.com
git_url: https://git.bioconductor.org/packages/escheR
git_branch: devel
git_last_commit: 6c6c207
git_last_commit_date: 2024-10-29 11:19:29 -0500 (Tue, 29 Oct 2024)