Package: epivizrStandalone
Version: 1.35.0
Command: rm -rf epivizrStandalone.buildbin-libdir && mkdir epivizrStandalone.buildbin-libdir && /Users/biocbuild/BBS/utils/build-universal.sh epivizrStandalone_1.35.0.tar.gz /Library/Frameworks/R.framework/Resources/bin/R epivizrStandalone.buildbin-libdir
StartedAt: 2025-02-20 00:31:21 -0500 (Thu, 20 Feb 2025)
EndedAt: 2025-02-20 00:32:18 -0500 (Thu, 20 Feb 2025)
EllapsedTime: 57.7 seconds
RetCode: 0
Status: OK
PackageFile: epivizrStandalone_1.35.0.tgz
PackageFileSize: 250.4 <A href="http://en.wikipedia.org/wiki/KiB" target="_blank">KiB</A>