Package: epivizrStandalone Version: 1.35.0 Command: /home/biocbuild/R/R/bin/R CMD check --install=check:epivizrStandalone.install-out.txt --library=/home/biocbuild/R/R/site-library --no-vignettes --timings epivizrStandalone_1.35.0.tar.gz StartedAt: 2025-01-28 10:26:21 -0000 (Tue, 28 Jan 2025) EndedAt: 2025-01-28 10:33:33 -0000 (Tue, 28 Jan 2025) EllapsedTime: 432.4 seconds RetCode: 0 Status: WARNINGS CheckDir: epivizrStandalone.Rcheck Warnings: 7