Package: epivizrStandalone Version: 1.35.0 Command: /Library/Frameworks/R.framework/Resources/bin/R CMD check --install=check:epivizrStandalone.install-out.txt --library=/Library/Frameworks/R.framework/Resources/library --no-vignettes --timings epivizrStandalone_1.35.0.tar.gz StartedAt: 2025-02-04 19:10:57 -0500 (Tue, 04 Feb 2025) EndedAt: 2025-02-04 19:12:52 -0500 (Tue, 04 Feb 2025) EllapsedTime: 114.3 seconds RetCode: 0 Status: WARNINGS CheckDir: epivizrStandalone.Rcheck Warnings: 2