Package: epivizrStandalone Version: 1.35.0 Command: rm -rf epivizrStandalone.buildbin-libdir && mkdir epivizrStandalone.buildbin-libdir && /Users/biocbuild/BBS/utils/build-universal.sh epivizrStandalone_1.35.0.tar.gz /Library/Frameworks/R.framework/Resources/bin/R epivizrStandalone.buildbin-libdir StartedAt: 2025-02-04 22:15:41 -0500 (Tue, 04 Feb 2025) EndedAt: 2025-02-04 22:15:59 -0500 (Tue, 04 Feb 2025) EllapsedTime: 18.4 seconds RetCode: 0 Status: OK PackageFile: epivizrStandalone_1.35.0.tgz PackageFileSize: 295.5 KiB