Package: epivizrData Version: 1.35.0 Command: E:\biocbuild\bbs-3.21-bioc\R\bin\R.exe CMD check --no-multiarch --install=check:epivizrData.install-out.txt --library=E:\biocbuild\bbs-3.21-bioc\R\library --no-vignettes --timings epivizrData_1.35.0.tar.gz StartedAt: 2025-02-01 00:37:39 -0500 (Sat, 01 Feb 2025) EndedAt: 2025-02-01 00:42:41 -0500 (Sat, 01 Feb 2025) EllapsedTime: 302.0 seconds RetCode: 0 Status: OK CheckDir: epivizrData.Rcheck Warnings: 0