Package: epidecodeR Version: 1.15.0 Command: /Library/Frameworks/R.framework/Resources/bin/R CMD INSTALL epidecodeR StartedAt: 2025-01-31 15:44:41 -0500 (Fri, 31 Jan 2025) EndedAt: 2025-01-31 15:45:22 -0500 (Fri, 31 Jan 2025) EllapsedTime: 41.1 seconds RetCode: 0 Status: OK