Package: ensembldb Version: 2.31.0 Command: E:\biocbuild\bbs-3.21-bioc\R\bin\R.exe CMD INSTALL ensembldb StartedAt: 2025-02-19 16:01:54 -0500 (Wed, 19 Feb 2025) EndedAt: 2025-02-19 16:03:30 -0500 (Wed, 19 Feb 2025) EllapsedTime: 95.8 seconds RetCode: 0 Status: OK