##############################################################################
##############################################################################
###
### Running command:
###
###   E:\biocbuild\bbs-3.21-bioc\R\bin\R.exe CMD INSTALL ensembldb
###
##############################################################################
##############################################################################


* installing to library 'E:/biocbuild/bbs-3.21-bioc/R/library'
* installing *source* package 'ensembldb' ...
** this is package 'ensembldb' version '2.31.0'
** using staged installation
** R
** inst
** byte-compile and prepare package for lazy loading
Creating a generic function from function '.cds_for_id2' in package 'ensembldb'
** help
*** installing help indices
** building package indices
** installing vignettes
** testing if installed package can be loaded from temporary location
** testing if installed package can be loaded from final location
** testing if installed package keeps a record of temporary installation path
* DONE (ensembldb)