Package: ensembldb
Version: 2.31.0
Command: rm -rf ensembldb.buildbin-libdir && mkdir ensembldb.buildbin-libdir && E:\biocbuild\bbs-3.21-bioc\R\bin\R.exe CMD INSTALL --build --library=ensembldb.buildbin-libdir ensembldb_2.31.0.tar.gz
StartedAt: 2025-02-20 07:44:35 -0500 (Thu, 20 Feb 2025)
EndedAt: 2025-02-20 07:46:23 -0500 (Thu, 20 Feb 2025)
EllapsedTime: 107.8 seconds
RetCode: 0
Status: OK
PackageFile: ensembldb_2.31.0.zip
PackageFileSize: 3.439 <A href="http://en.wikipedia.org/wiki/MiB" target="_blank">MiB</A>