Package: ensembldb Version: 2.31.0 Command: /home/biocbuild/bbs-3.21-bioc/R/bin/R CMD INSTALL ensembldb StartedAt: 2025-02-19 15:38:00 -0500 (Wed, 19 Feb 2025) EndedAt: 2025-02-19 15:38:40 -0500 (Wed, 19 Feb 2025) EllapsedTime: 40.4 seconds RetCode: 0 Status: OK