Package: ensembldb Version: 2.31.0 Command: /home/biocbuild/bbs-3.21-bioc/R/bin/R CMD check --install=check:ensembldb.install-out.txt --library=/home/biocbuild/bbs-3.21-bioc/R/site-library --timings ensembldb_2.31.0.tar.gz StartedAt: 2025-02-19 21:58:06 -0500 (Wed, 19 Feb 2025) EndedAt: 2025-02-19 22:16:48 -0500 (Wed, 19 Feb 2025) EllapsedTime: 1122.6 seconds RetCode: 0 Status: OK CheckDir: ensembldb.Rcheck Warnings: 0