Package: ensembldb
Version: 2.31.0
Command: /home/biocbuild/bbs-3.21-bioc/R/bin/R CMD build --keep-empty-dirs --no-resave-data ensembldb
StartedAt: 2025-02-19 17:08:00 -0500 (Wed, 19 Feb 2025)
EndedAt: 2025-02-19 17:09:53 -0500 (Wed, 19 Feb 2025)
EllapsedTime: 113.2 seconds
RetCode: 0
Status: OK
PackageFile: ensembldb_2.31.0.tar.gz
PackageFileSize: 3.374 <A href="http://en.wikipedia.org/wiki/MiB" target="_blank">MiB</A>