Package: ensembldb Version: 2.31.0 Command: /Library/Frameworks/R.framework/Resources/bin/R CMD check --install=check:ensembldb.install-out.txt --library=/Library/Frameworks/R.framework/Resources/library --no-vignettes --timings ensembldb_2.31.0.tar.gz StartedAt: 2025-02-19 19:10:31 -0500 (Wed, 19 Feb 2025) EndedAt: 2025-02-19 19:16:53 -0500 (Wed, 19 Feb 2025) EllapsedTime: 382.4 seconds RetCode: 0 Status: OK CheckDir: ensembldb.Rcheck Warnings: 0