Package: ensembldb
Version: 2.31.0
Command: /Library/Frameworks/R.framework/Resources/bin/R CMD build --keep-empty-dirs --no-resave-data ensembldb
StartedAt: 2025-02-19 16:15:55 -0500 (Wed, 19 Feb 2025)
EndedAt: 2025-02-19 16:16:39 -0500 (Wed, 19 Feb 2025)
EllapsedTime: 43.4 seconds
RetCode: 0
Status: OK
PackageFile: ensembldb_2.31.0.tar.gz
PackageFileSize: 3.286 <A href="http://en.wikipedia.org/wiki/MiB" target="_blank">MiB</A>