Package: ensembldb Version: 2.31.0 Command: rm -rf ensembldb.buildbin-libdir && mkdir ensembldb.buildbin-libdir && /Users/biocbuild/BBS/utils/build-universal.sh ensembldb_2.31.0.tar.gz /Library/Frameworks/R.framework/Resources/bin/R ensembldb.buildbin-libdir StartedAt: 2025-02-19 22:21:03 -0500 (Wed, 19 Feb 2025) EndedAt: 2025-02-19 22:21:22 -0500 (Wed, 19 Feb 2025) EllapsedTime: 18.3 seconds RetCode: 0 Status: OK PackageFile: ensembldb_2.31.0.tgz PackageFileSize: 3.604 <A href="http://en.wikipedia.org/wiki/MiB" target="_blank">MiB</A>