Package: eisaR Version: 1.19.0 Command: /home/biocbuild/bbs-3.21-bioc/R/bin/R CMD INSTALL eisaR StartedAt: 2025-02-19 15:23:27 -0500 (Wed, 19 Feb 2025) EndedAt: 2025-02-19 15:23:48 -0500 (Wed, 19 Feb 2025) EllapsedTime: 20.7 seconds RetCode: 0 Status: OK