Package: eisaR
Version: 1.19.0
Command: /home/biocbuild/bbs-3.21-bioc/R/bin/R CMD check --install=check:eisaR.install-out.txt --library=/home/biocbuild/bbs-3.21-bioc/R/site-library --timings eisaR_1.19.0.tar.gz
StartedAt: 2025-02-19 21:55:46 -0500 (Wed, 19 Feb 2025)
EndedAt: 2025-02-19 22:00:47 -0500 (Wed, 19 Feb 2025)
EllapsedTime: 301.4 seconds
RetCode: 0
Status: OK
CheckDir: eisaR.Rcheck
Warnings: 0