Package: eisaR
Version: 1.19.0
Command: /Library/Frameworks/R.framework/Resources/bin/R CMD INSTALL eisaR
StartedAt: 2025-02-19 15:09:48 -0500 (Wed, 19 Feb 2025)
EndedAt: 2025-02-19 15:10:17 -0500 (Wed, 19 Feb 2025)
EllapsedTime: 28.4 seconds
RetCode: 0
Status: OK