Package: eisaR Version: 1.19.0 Command: /Library/Frameworks/R.framework/Resources/bin/R CMD build --keep-empty-dirs --no-resave-data eisaR StartedAt: 2025-02-19 16:35:40 -0500 (Wed, 19 Feb 2025) EndedAt: 2025-02-19 16:37:10 -0500 (Wed, 19 Feb 2025) EllapsedTime: 90.3 seconds RetCode: 0 Status: OK PackageFile: eisaR_1.19.0.tar.gz PackageFileSize: 1.714 <A href="http://en.wikipedia.org/wiki/MiB" target="_blank">MiB</A>