Package: eisaR
Version: 1.19.0
Command: rm -rf eisaR.buildbin-libdir && mkdir eisaR.buildbin-libdir && /Users/biocbuild/BBS/utils/build-universal.sh eisaR_1.19.0.tar.gz /Library/Frameworks/R.framework/Resources/bin/R eisaR.buildbin-libdir
StartedAt: 2025-02-20 00:30:37 -0500 (Thu, 20 Feb 2025)
EndedAt: 2025-02-20 00:31:08 -0500 (Thu, 20 Feb 2025)
EllapsedTime: 31.1 seconds
RetCode: 0
Status: OK
PackageFile: eisaR_1.19.0.tgz
PackageFileSize: 1.743 <A href="http://en.wikipedia.org/wiki/MiB" target="_blank">MiB</A>