Package: easyRNASeq
Version: 2.43.0
Command: /home/biocbuild/bbs-3.21-bioc/R/bin/R CMD INSTALL easyRNASeq
StartedAt: 2025-02-19 15:49:50 -0500 (Wed, 19 Feb 2025)
EndedAt: 2025-02-19 15:50:34 -0500 (Wed, 19 Feb 2025)
EllapsedTime: 43.5 seconds
RetCode: 0
Status: OK