Package: easyRNASeq
Version: 2.43.0
Command: /home/biocbuild/bbs-3.21-bioc/R/bin/R CMD check --install=check:easyRNASeq.install-out.txt --library=/home/biocbuild/bbs-3.21-bioc/R/site-library --timings easyRNASeq_2.43.0.tar.gz
StartedAt: 2025-02-19 21:53:19 -0500 (Wed, 19 Feb 2025)
EndedAt: 2025-02-19 22:06:04 -0500 (Wed, 19 Feb 2025)
EllapsedTime: 765.0 seconds
RetCode: 0
Status: WARNINGS
CheckDir: easyRNASeq.Rcheck
Warnings: 1