Package: easyRNASeq
Version: 2.43.0
Command: /home/biocbuild/bbs-3.21-bioc/R/bin/R CMD build --keep-empty-dirs --no-resave-data easyRNASeq
StartedAt: 2025-02-19 17:05:39 -0500 (Wed, 19 Feb 2025)
EndedAt: 2025-02-19 17:09:28 -0500 (Wed, 19 Feb 2025)
EllapsedTime: 229.3 seconds
RetCode: 0
Status: OK
PackageFile: easyRNASeq_2.43.0.tar.gz
PackageFileSize: 69.55 <A href="http://en.wikipedia.org/wiki/MiB" target="_blank">MiB</A>