##############################################################################
##############################################################################
###
### Running command:
###
###   /home/biocbuild/R/R/bin/R CMD INSTALL easyRNASeq
###
##############################################################################
##############################################################################


* installing to library ‘/home/biocbuild/R/R-4.5.0-devel_2024-11-24/site-library’
* installing *source* package ‘easyRNASeq’ ...
** using staged installation
** R
** data
** inst
** byte-compile and prepare package for lazy loading
Warning: program compiled against libxml 212 using older 211
Creating a generic function for ‘basename’ from package ‘base’ in package ‘easyRNASeq’
Creating a generic function for ‘file.exists’ from package ‘base’ in package ‘easyRNASeq’
** help
*** installing help indices
** building package indices
** installing vignettes
** testing if installed package can be loaded from temporary location
Warning: program compiled against libxml 212 using older 211
** testing if installed package can be loaded from final location
Warning: program compiled against libxml 212 using older 211
** testing if installed package keeps a record of temporary installation path
* DONE (easyRNASeq)