Package: divergence
Version: 1.23.0
Maintainer: Wikum Dinalankara <wdd4001@med.cornell.edu>, Luigi Marchionni
MaintainerEmail: marchion at jhu.edu
git_url: https://git.bioconductor.org/packages/divergence
git_branch: devel
git_last_commit: ef1c130
git_last_commit_date: 2024-10-29 10:34:30 -0500 (Tue, 29 Oct 2024)