Package: distinct
Version: 1.19.0
Command: E:\biocbuild\bbs-3.21-bioc\R\bin\R.exe CMD INSTALL distinct
StartedAt: 2025-02-19 16:48:43 -0500 (Wed, 19 Feb 2025)
EndedAt: 2025-02-19 16:52:07 -0500 (Wed, 19 Feb 2025)
EllapsedTime: 204.1 seconds
RetCode: 0
Status: OK