Package: distinct
Version: 1.19.0
Command: E:\biocbuild\bbs-3.21-bioc\R\bin\R.exe CMD check --no-multiarch --install=check:distinct.install-out.txt --library=E:\biocbuild\bbs-3.21-bioc\R\library --no-vignettes --timings distinct_1.19.0.tar.gz
StartedAt: 2025-02-20 00:34:41 -0500 (Thu, 20 Feb 2025)
EndedAt: 2025-02-20 00:41:18 -0500 (Thu, 20 Feb 2025)
EllapsedTime: 397.7 seconds
RetCode: 0
Status: OK
CheckDir: distinct.Rcheck
Warnings: 0