Package: distinct
Version: 1.19.0
Command: chmod a+r distinct -R && E:\biocbuild\bbs-3.21-bioc\R\bin\R.exe CMD build --keep-empty-dirs --no-resave-data distinct
StartedAt: 2025-02-19 18:25:19 -0500 (Wed, 19 Feb 2025)
EndedAt: 2025-02-19 18:29:27 -0500 (Wed, 19 Feb 2025)
EllapsedTime: 248.1 seconds
RetCode: 0
Status: OK
PackageFile: distinct_1.19.0.tar.gz
PackageFileSize: 1.468 <A href="http://en.wikipedia.org/wiki/MiB" target="_blank">MiB</A>