Package: distinct Version: 1.19.0 Command: /Library/Frameworks/R.framework/Resources/bin/R CMD INSTALL distinct StartedAt: 2025-02-19 15:39:10 -0500 (Wed, 19 Feb 2025) EndedAt: 2025-02-19 15:40:28 -0500 (Wed, 19 Feb 2025) EllapsedTime: 77.9 seconds RetCode: 0 Status: OK