Package: distinct
Version: 1.19.0
Command: /Library/Frameworks/R.framework/Resources/bin/R CMD check --install=check:distinct.install-out.txt --library=/Library/Frameworks/R.framework/Resources/library --no-vignettes --timings distinct_1.19.0.tar.gz
StartedAt: 2025-02-19 20:05:48 -0500 (Wed, 19 Feb 2025)
EndedAt: 2025-02-19 20:11:21 -0500 (Wed, 19 Feb 2025)
EllapsedTime: 333.2 seconds
RetCode: 0
Status: OK
CheckDir: distinct.Rcheck
Warnings: 0