Package: distinct
Version: 1.19.0
Command: /Library/Frameworks/R.framework/Resources/bin/R CMD build --keep-empty-dirs --no-resave-data distinct
StartedAt: 2025-02-19 16:32:15 -0500 (Wed, 19 Feb 2025)
EndedAt: 2025-02-19 16:35:31 -0500 (Wed, 19 Feb 2025)
EllapsedTime: 195.6 seconds
RetCode: 0
Status: OK
PackageFile: distinct_1.19.0.tar.gz
PackageFileSize: 1.86 <A href="http://en.wikipedia.org/wiki/MiB" target="_blank">MiB</A>