Package: distinct Version: 1.19.0 Command: rm -rf distinct.buildbin-libdir && mkdir distinct.buildbin-libdir && /Users/biocbuild/BBS/utils/build-universal.sh distinct_1.19.0.tar.gz /Library/Frameworks/R.framework/Resources/bin/R distinct.buildbin-libdir StartedAt: 2025-02-20 00:29:31 -0500 (Thu, 20 Feb 2025) EndedAt: 2025-02-20 00:30:52 -0500 (Thu, 20 Feb 2025) EllapsedTime: 80.9 seconds RetCode: 0 Status: OK PackageFile: distinct_1.19.0.tgz PackageFileSize: 2.022 <A href="http://en.wikipedia.org/wiki/MiB" target="_blank">MiB</A>