Package: distinct
Version: 1.19.0
Command: /home/biocbuild/R/R/bin/R CMD INSTALL distinct
StartedAt: 2025-01-29 20:28:20 -0000 (Wed, 29 Jan 2025)
EndedAt: 2025-01-29 20:30:07 -0000 (Wed, 29 Jan 2025)
EllapsedTime: 107.2 seconds
RetCode: 0
Status: OK