##############################################################################
##############################################################################
###
### Running command:
###
###   /home/biocbuild/R/R/bin/R CMD INSTALL distinct
###
##############################################################################
##############################################################################


* installing to library ‘/home/biocbuild/R/R-4.5.0-devel_2024-11-24/site-library’
* installing *source* package ‘distinct’ ...
** using staged installation
** libs
using C++ compiler: ‘aarch64-unknown-linux-gnu-g++ (GCC) 14.2.0’
using C++17
/opt/ohpc/pub/compiler/gcc/14.2.0/bin/aarch64-unknown-linux-gnu-g++ -std=gnu++17 -I"/home/biocbuild/R/R/include" -DNDEBUG  -I'/home/biocbuild/R/R-4.5.0-devel_2024-11-24/site-library/Rcpp/include' -I'/home/biocbuild/R/R-4.5.0-devel_2024-11-24/site-library/RcppArmadillo/include' -I/usr/local/include    -fPIC  -g -O2  -Wall -Werror=format-security -DR_NO_REMAP -c Perm.cpp -o Perm.o
/opt/ohpc/pub/compiler/gcc/14.2.0/bin/aarch64-unknown-linux-gnu-g++ -std=gnu++17 -I"/home/biocbuild/R/R/include" -DNDEBUG  -I'/home/biocbuild/R/R-4.5.0-devel_2024-11-24/site-library/Rcpp/include' -I'/home/biocbuild/R/R-4.5.0-devel_2024-11-24/site-library/RcppArmadillo/include' -I/usr/local/include    -fPIC  -g -O2  -Wall -Werror=format-security -DR_NO_REMAP -c Perm_covariates.cpp -o Perm_covariates.o
/opt/ohpc/pub/compiler/gcc/14.2.0/bin/aarch64-unknown-linux-gnu-g++ -std=gnu++17 -I"/home/biocbuild/R/R/include" -DNDEBUG  -I'/home/biocbuild/R/R-4.5.0-devel_2024-11-24/site-library/Rcpp/include' -I'/home/biocbuild/R/R-4.5.0-devel_2024-11-24/site-library/RcppArmadillo/include' -I/usr/local/include    -fPIC  -g -O2  -Wall -Werror=format-security -DR_NO_REMAP -c Perm_covariates_parallel.cpp -o Perm_covariates_parallel.o
/opt/ohpc/pub/compiler/gcc/14.2.0/bin/aarch64-unknown-linux-gnu-g++ -std=gnu++17 -I"/home/biocbuild/R/R/include" -DNDEBUG  -I'/home/biocbuild/R/R-4.5.0-devel_2024-11-24/site-library/Rcpp/include' -I'/home/biocbuild/R/R-4.5.0-devel_2024-11-24/site-library/RcppArmadillo/include' -I/usr/local/include    -fPIC  -g -O2  -Wall -Werror=format-security -DR_NO_REMAP -c Perm_parallel.cpp -o Perm_parallel.o
/opt/ohpc/pub/compiler/gcc/14.2.0/bin/aarch64-unknown-linux-gnu-g++ -std=gnu++17 -I"/home/biocbuild/R/R/include" -DNDEBUG  -I'/home/biocbuild/R/R-4.5.0-devel_2024-11-24/site-library/Rcpp/include' -I'/home/biocbuild/R/R-4.5.0-devel_2024-11-24/site-library/RcppArmadillo/include' -I/usr/local/include    -fPIC  -g -O2  -Wall -Werror=format-security -DR_NO_REMAP -c RcppExports.cpp -o RcppExports.o
/opt/ohpc/pub/compiler/gcc/14.2.0/bin/aarch64-unknown-linux-gnu-g++ -std=gnu++17 -shared -L/home/biocbuild/R/R/lib -L/usr/local/lib -o distinct.so Perm.o Perm_covariates.o Perm_covariates_parallel.o Perm_parallel.o RcppExports.o -lopenblas -lgfortran -lm -L/home/biocbuild/R/R/lib -lR
installing to /home/biocbuild/R/R-4.5.0-devel_2024-11-24/site-library/00LOCK-distinct/00new/distinct/libs
** R
** data
** inst
** byte-compile and prepare package for lazy loading
** help
*** installing help indices
** building package indices
** installing vignettes
** testing if installed package can be loaded from temporary location
** checking absolute paths in shared objects and dynamic libraries
** testing if installed package can be loaded from final location
** testing if installed package keeps a record of temporary installation path
* DONE (distinct)