Package: distinct
Version: 1.19.0
Command: /home/biocbuild/R/R/bin/R CMD check --install=check:distinct.install-out.txt --library=/home/biocbuild/R/R/site-library --no-vignettes --timings distinct_1.19.0.tar.gz
StartedAt: 2025-01-28 10:01:44 -0000 (Tue, 28 Jan 2025)
EndedAt: 2025-01-28 10:08:30 -0000 (Tue, 28 Jan 2025)
EllapsedTime: 405.4 seconds
RetCode: 0
Status: OK
CheckDir: distinct.Rcheck
Warnings: 0